BEGIN:VCALENDAR
VERSION:2.0
PRODID:hinto.net
X-PUBLISHED-TTL:P1W
BEGIN:VEVENT
UID:hinto.net-event_show-6844919
DTSTART:20260522T203000
SEQUENCE:0
CREATED:20260324T034744
LAST-MODIFIED:20260324T034744
TRANSP:OPAQUE

LOCATION:Jazztone
SUMMARY:Canto-Matthieu-Chazerenc
CLASS:PUBLIC
DESCRIPTION:
ORGANIZER:
DTSTAMP:20260420T093053
ATTACH:https://www.hinto.ch/de/events/canto-matthieu-chazerenc-22-05-2026-2030-jazztone-loerrach-e2778223-20.html
END:VEVENT
END:VCALENDAR
