BEGIN:VCALENDAR
VERSION:2.0
PRODID:hinto.net
X-PUBLISHED-TTL:P1W
BEGIN:VEVENT
UID:hinto.net-event_show-6861153
DTSTART:20261128T203000
SEQUENCE:0
CREATED:20260328T084035
LAST-MODIFIED:20260328T084035
TRANSP:OPAQUE

LOCATION:Moods
SUMMARY:Chico Chico
CLASS:PUBLIC
DESCRIPTION:
ORGANIZER:
DTSTAMP:20260420T231539
ATTACH:https://www.hinto.ch/de/events/chico-chico-28-11-2026-2030-moods-zuerich-e2792066-20.html
END:VEVENT
END:VCALENDAR
