BEGIN:VCALENDAR
VERSION:2.0
PRODID:hinto.net
X-PUBLISHED-TTL:P1W
BEGIN:VEVENT
UID:hinto.net-event_show-6847183
DTSTART:20261120T193000
SEQUENCE:0
CREATED:20260324T123850
LAST-MODIFIED:20260324T123850
TRANSP:OPAQUE
DTEND:20261120T000000
LOCATION:Seepromenade
SUMMARY:Circus Knie
CLASS:PUBLIC
DESCRIPTION:
ORGANIZER:
DTSTAMP:20260421T034222
ATTACH:https://www.hinto.ch/de/events/circus-knie-20-11-2026-1930-seepromenade-zug-e2780269-20.html
END:VEVENT
END:VCALENDAR
