BEGIN:VCALENDAR
VERSION:2.0
PRODID:hinto.net
X-PUBLISHED-TTL:P1W
BEGIN:VEVENT
UID:hinto.net-event_show-6847185
DTSTART:20261121T170000
SEQUENCE:0
CREATED:20260324T123850
LAST-MODIFIED:20260324T123850
TRANSP:OPAQUE
DTEND:20261121T000000
LOCATION:Seepromenade
SUMMARY:Circus Knie
CLASS:PUBLIC
DESCRIPTION:
ORGANIZER:
DTSTAMP:20260421T040552
ATTACH:https://www.hinto.ch/de/events/circus-knie-21-11-2026-1700-seepromenade-zug-e2780269-20.html
END:VEVENT
END:VCALENDAR
