BEGIN:VCALENDAR
VERSION:2.0
PRODID:hinto.net
X-PUBLISHED-TTL:P1W
BEGIN:VEVENT
UID:hinto.net-event_show-5818134
DTSTART:20261001T200000
SEQUENCE:0
CREATED:20250429T131248
LAST-MODIFIED:20250429T131248
TRANSP:OPAQUE
DTEND:20261001T221500
LOCATION:Kursaal Heiden
SUMMARY:Comedy-Duo Messer&Gabel - WandStand
CLASS:PUBLIC
DESCRIPTION:
ORGANIZER:
DTSTAMP:20260424T130332
ATTACH:https://www.hinto.ch/de/events/comedy-duo-messergabel-wandstand-01-10-2026-2000-kursaal-heiden-heiden-e1897097-20.html
END:VEVENT
END:VCALENDAR
