BEGIN:VCALENDAR
VERSION:2.0
PRODID:hinto.net
X-PUBLISHED-TTL:P1W
BEGIN:VEVENT
UID:hinto.net-event_show-6368469
DTSTART:20260617T200000
SEQUENCE:0
CREATED:20251021T102409
LAST-MODIFIED:20251021T102409
TRANSP:OPAQUE
DTEND:20260617T220000
LOCATION:Auer & Co
SUMMARY:Comedy Kiss Wednesday Open Mic
CLASS:PUBLIC
DESCRIPTION:
ORGANIZER:
DTSTAMP:20260424T173146
ATTACH:https://www.hinto.ch/de/events/comedy-kiss-wednesday-open-mic-17-06-2026-2000-auer-co-zuerich-e2379283-20.html
END:VEVENT
END:VCALENDAR
