BEGIN:VCALENDAR
VERSION:2.0
PRODID:hinto.net
X-PUBLISHED-TTL:P1W
BEGIN:VEVENT
UID:hinto.net-event_show-6891083
DTSTART:20260423T203000
SEQUENCE:0
CREATED:20260408T025456
LAST-MODIFIED:20260408T025456
TRANSP:OPAQUE

LOCATION:Salle Douane
SUMMARY:Coup de bluff au cabaret
CLASS:PUBLIC
DESCRIPTION:
ORGANIZER:
DTSTAMP:20260421T023143
ATTACH:https://www.hinto.ch/de/events/coup-de-bluff-au-cabaret-23-04-2026-2030-salle-douane-moudon-e2817353-20.html
END:VEVENT
END:VCALENDAR
