BEGIN:VCALENDAR
VERSION:2.0
PRODID:hinto.net
X-PUBLISHED-TTL:P1W
BEGIN:VEVENT
UID:hinto.net-event_show-6861144
DTSTART:20260509T190000
SEQUENCE:0
CREATED:20260328T084026
LAST-MODIFIED:20260328T084026
TRANSP:OPAQUE

LOCATION:
SUMMARY:Dance your Pain
CLASS:PUBLIC
DESCRIPTION:
ORGANIZER:
DTSTAMP:20260419T213316
ATTACH:https://www.hinto.ch/de/events/dance-your-pain-09-05-2026-1900-e2792057-20.html
END:VEVENT
END:VCALENDAR
