BEGIN:VCALENDAR
VERSION:2.0
PRODID:hinto.net
X-PUBLISHED-TTL:P1W
BEGIN:VEVENT
UID:hinto.net-event_show-6925083
DTSTART:20260520T200000
SEQUENCE:0
CREATED:20260419T051946
LAST-MODIFIED:20260419T051946
TRANSP:OPAQUE
DTEND:20260520T230000
LOCATION:INDUSTRIE36
SUMMARY:Dave Weckl / Tom Kennedy Project
CLASS:PUBLIC
DESCRIPTION:
ORGANIZER:
DTSTAMP:20260420T003039
ATTACH:https://www.hinto.ch/de/events/dave-weckl-tom-kennedy-project-20-05-2026-2000-industrie36-rorschach-e2847277-20.html
END:VEVENT
END:VCALENDAR
