BEGIN:VCALENDAR
VERSION:2.0
PRODID:hinto.net
X-PUBLISHED-TTL:P1W
BEGIN:VEVENT
UID:hinto.net-event_show-6931044
DTSTART:20260507T180000
SEQUENCE:0
CREATED:20260421T151020
LAST-MODIFIED:20260421T151020
TRANSP:OPAQUE
DTEND:20260507T203000
LOCATION:Dock8
SUMMARY:Dialogveranstaltung "Endlosschlaufe Armut"
CLASS:PUBLIC
DESCRIPTION:
ORGANIZER:
DTSTAMP:20260424T155537
ATTACH:https://www.hinto.ch/de/events/dialogveranstaltung-endlosschlaufe-armut-07-05-2026-1800-dock8-bern-e2852349-20.html
END:VEVENT
END:VCALENDAR
