BEGIN:VCALENDAR
VERSION:2.0
PRODID:hinto.net
X-PUBLISHED-TTL:P1W
BEGIN:VEVENT
UID:hinto.net-event_show-6354752
DTSTART:20251116T110000
SEQUENCE:0
CREATED:20251017T025940
LAST-MODIFIED:20251017T025940
TRANSP:OPAQUE

LOCATION:Jüdisches Museum
SUMMARY:Die Morgenländer. Jüdische Forscher suchen nach dem Eigenen im Fremden
CLASS:PUBLIC
DESCRIPTION:
ORGANIZER:
DTSTAMP:20260424T223210
ATTACH:https://www.hinto.ch/de/events/die-morgenlaender-juedische-forscher-suchen-nach-dem-eigenen-im-fremden-16-11-2025-1100-juedisches-museum-hohenems-e2368397-20.html
END:VEVENT
END:VCALENDAR
