BEGIN:VCALENDAR
VERSION:2.0
PRODID:hinto.net
X-PUBLISHED-TTL:P1W
BEGIN:VEVENT
UID:hinto.net-event_show-6919396
DTSTART:20260419T020500
SEQUENCE:0
CREATED:20260417T042248
LAST-MODIFIED:20260417T042248
TRANSP:OPAQUE
DTEND:20260419T030000
LOCATION:
SUMMARY:DMAX: Stadium Lockup - Einsatz im Stadion
CLASS:PUBLIC
DESCRIPTION:
ORGANIZER:
DTSTAMP:20260419T143413
ATTACH:https://www.hinto.ch/de/events/dmax-stadium-lockup-einsatz-im-stadion-19-04-2026-0205-e2842353-20.html
END:VEVENT
END:VCALENDAR
