BEGIN:VCALENDAR
VERSION:2.0
PRODID:hinto.net
X-PUBLISHED-TTL:P1W
BEGIN:VEVENT
UID:hinto.net-event_show-6779935
DTSTART:20260507T200000
SEQUENCE:0
CREATED:20260307T110316
LAST-MODIFIED:20260307T110316
TRANSP:OPAQUE
DTEND:20260507T213000
LOCATION:Museum Fram
SUMMARY:Einsiedeln im Fokus
CLASS:PUBLIC
DESCRIPTION:
ORGANIZER:
DTSTAMP:20260424T080625
ATTACH:https://www.hinto.ch/de/events/einsiedeln-im-fokus-07-05-2026-2000-museum-fram-einsiedeln-e2734796-20.html
END:VEVENT
END:VCALENDAR
