BEGIN:VCALENDAR
VERSION:2.0
PRODID:hinto.net
X-PUBLISHED-TTL:P1W
BEGIN:VEVENT
UID:hinto.net-event_show-6853922
DTSTART:20260417T000000
SEQUENCE:0
CREATED:20260326T194510
LAST-MODIFIED:20260326T194510
TRANSP:OPAQUE
DTEND:20260417T013000
LOCATION:
SUMMARY:Eurosport: Snooker: Weltmeisterschaft
CLASS:PUBLIC
DESCRIPTION:
ORGANIZER:
DTSTAMP:20260424T035904
ATTACH:https://www.hinto.ch/de/events/eurosport-snooker-weltmeisterschaft-17-04-2026-0000-e2785801-20.html
END:VEVENT
END:VCALENDAR
