BEGIN:VCALENDAR
VERSION:2.0
PRODID:hinto.net
X-PUBLISHED-TTL:P1W
BEGIN:VEVENT
UID:hinto.net-event_show-6925242
DTSTART:20260919T190000
SEQUENCE:0
CREATED:20260419T052102
LAST-MODIFIED:20260419T052102
TRANSP:OPAQUE
DTEND:20260919T220000
LOCATION:Schweizerische Bodensee-Schifffahrt AG
SUMMARY:Fajitaschiff
CLASS:PUBLIC
DESCRIPTION:
ORGANIZER:
DTSTAMP:20260420T210621
ATTACH:https://www.hinto.ch/de/events/fajitaschiff-19-09-2026-1900-schweizerische-bodensee-schifffahrt-ag-romanshorn-e2847358-20.html
END:VEVENT
END:VCALENDAR
