BEGIN:VCALENDAR
VERSION:2.0
PRODID:hinto.net
X-PUBLISHED-TTL:P1W
BEGIN:VEVENT
UID:hinto.net-event_show-5606740
DTSTART:20260404T200000
SEQUENCE:0
CREATED:20260130T102731
LAST-MODIFIED:20260130T102731
TRANSP:OPAQUE
DTEND:20260404T213000
LOCATION:Petruskirche
SUMMARY:Filmabend in der Kirche
CLASS:PUBLIC
DESCRIPTION:
ORGANIZER:
DTSTAMP:20260421T070344
ATTACH:https://www.hinto.ch/de/events/filmabend-in-der-kirche-04-04-2026-2000-petruskirche-bern-e1718683-20.html
END:VEVENT
END:VCALENDAR
