BEGIN:VCALENDAR
VERSION:2.0
PRODID:hinto.net
X-PUBLISHED-TTL:P1W
BEGIN:VEVENT
UID:hinto.net-event_show-6666446
DTSTART:20260719T160000
SEQUENCE:0
CREATED:20260128T115153
LAST-MODIFIED:20260128T115153
TRANSP:OPAQUE
DTEND:20260719T213000
LOCATION:Firehouse
SUMMARY:Firehouse Pizza Sunday
CLASS:PUBLIC
DESCRIPTION:
ORGANIZER:
DTSTAMP:20260421T022804
ATTACH:https://www.hinto.ch/de/events/firehouse-pizza-sunday-19-07-2026-1600-firehouse-weinfelden-e2636514-20.html
END:VEVENT
END:VCALENDAR
