BEGIN:VCALENDAR
VERSION:2.0
PRODID:hinto.net
X-PUBLISHED-TTL:P1W
BEGIN:VEVENT
UID:hinto.net-event_show-6891232
DTSTART:20260506T081500
SEQUENCE:0
CREATED:20260408T025643
LAST-MODIFIED:20260408T025643
TRANSP:OPAQUE
DTEND:20260506T164500
LOCATION:Samariterverein Münsingen
SUMMARY:First Aid Stufe 1 IVR + Refresher
CLASS:PUBLIC
DESCRIPTION:
ORGANIZER:
DTSTAMP:20260424T085003
ATTACH:https://www.hinto.ch/de/events/first-aid-stufe-1-ivr-+-refresher-06-05-2026-0815-samariterverein-muensingen-muensingen-e2817427-20.html
END:VEVENT
END:VCALENDAR
