BEGIN:VCALENDAR
VERSION:2.0
PRODID:hinto.net
X-PUBLISHED-TTL:P1W
BEGIN:VEVENT
UID:hinto.net-event_show-6925698
DTSTART:20260518T081500
SEQUENCE:0
CREATED:20260419T052312
LAST-MODIFIED:20260419T052312
TRANSP:OPAQUE
DTEND:20260518T164500
LOCATION:Samariterverein Münsingen
SUMMARY:First Aid Stufe 2 IVR + Refresher
CLASS:PUBLIC
DESCRIPTION:
ORGANIZER:
DTSTAMP:20260424T045749
ATTACH:https://www.hinto.ch/de/events/first-aid-stufe-2-ivr-+-refresher-18-05-2026-0815-samariterverein-muensingen-muensingen-e2847647-20.html
END:VEVENT
END:VCALENDAR
