BEGIN:VCALENDAR
VERSION:2.0
PRODID:hinto.net
X-PUBLISHED-TTL:P1W
BEGIN:VEVENT
UID:hinto.net-event_show-6922178
DTSTART:20260531T110000
SEQUENCE:0
CREATED:20260418T044621
LAST-MODIFIED:20260418T044621
TRANSP:OPAQUE

LOCATION:Vorarlberg Museum
SUMMARY:Franz Plunder: Bootsbauer, Bildhauer, Abenteurer
CLASS:PUBLIC
DESCRIPTION:
ORGANIZER:
DTSTAMP:20260420T230010
ATTACH:https://www.hinto.ch/de/events/franz-plunder-bootsbauer-bildhauer-abenteurer-31-05-2026-1100-vorarlberg-museum-bregenz-e2378734-20.html
END:VEVENT
END:VCALENDAR
