BEGIN:VCALENDAR
VERSION:2.0
PRODID:hinto.net
X-PUBLISHED-TTL:P1W
BEGIN:VEVENT
UID:hinto.net-event_show-6644302
DTSTART:20261029T200000
SEQUENCE:0
CREATED:20260121T085857
LAST-MODIFIED:20260121T085857
TRANSP:OPAQUE
DTEND:20261029T000000
LOCATION:Tonhalle Wil
SUMMARY:Gabirano - 2m10
CLASS:PUBLIC
DESCRIPTION:
ORGANIZER:
DTSTAMP:20260424T133518
ATTACH:https://www.hinto.ch/de/events/gabirano-2m10-29-10-2026-2000-tonhalle-wil-wil-sg-e2616839-20.html
END:VEVENT
END:VCALENDAR
