BEGIN:VCALENDAR
VERSION:2.0
PRODID:hinto.net
X-PUBLISHED-TTL:P1W
BEGIN:VEVENT
UID:hinto.net-event_show-6274840
DTSTART:20260905T140000
SEQUENCE:0
CREATED:20250919T172142
LAST-MODIFIED:20250919T172142
TRANSP:OPAQUE
DTEND:20260905T170000
LOCATION:Museum Burghalde
SUMMARY:Gillian White: Wolken
CLASS:PUBLIC
DESCRIPTION:
ORGANIZER:
DTSTAMP:20260424T051329
ATTACH:https://www.hinto.ch/de/events/gillian-white-wolken-05-09-2026-1400-museum-burghalde-lenzburg-e2299542-20.html
END:VEVENT
END:VCALENDAR
