BEGIN:VCALENDAR
VERSION:2.0
PRODID:hinto.net
X-PUBLISHED-TTL:P1W
BEGIN:VEVENT
UID:hinto.net-event_show-6903860
DTSTART:20260423T193000
SEQUENCE:0
CREATED:20260411T114620
LAST-MODIFIED:20260411T114620
TRANSP:OPAQUE

LOCATION:Les Alambics Théâtre-Ecole
SUMMARY:H.S.
CLASS:PUBLIC
DESCRIPTION:
ORGANIZER:
DTSTAMP:20260419T232616
ATTACH:https://www.hinto.ch/de/events/h-s-23-04-2026-1930-les-alambics-theatre-ecole-martigny-e2829097-20.html
END:VEVENT
END:VCALENDAR
