BEGIN:VCALENDAR
VERSION:2.0
PRODID:hinto.net
X-PUBLISHED-TTL:P1W
BEGIN:VEVENT
UID:hinto.net-event_show-6930298
DTSTART:20260614T130000
SEQUENCE:0
CREATED:20260421T030733
LAST-MODIFIED:20260421T030733
TRANSP:OPAQUE
DTEND:20260614T170000
LOCATION:Basler Papiermühle
SUMMARY:Handguss
CLASS:PUBLIC
DESCRIPTION:
ORGANIZER:
DTSTAMP:20260425T042907
ATTACH:https://www.hinto.ch/de/events/handguss-14-06-2026-1300-basler-papiermuehle-basel-e485803-20.html
END:VEVENT
END:VCALENDAR
