BEGIN:VCALENDAR
VERSION:2.0
PRODID:hinto.net
X-PUBLISHED-TTL:P1W
BEGIN:VEVENT
UID:hinto.net-event_show-6925122
DTSTART:20260728T090000
SEQUENCE:0
CREATED:20260419T051948
LAST-MODIFIED:20260419T051948
TRANSP:OPAQUE
DTEND:20260728T110000
LOCATION:Brache Lachen
SUMMARY:HEKS Gartentreffen
CLASS:PUBLIC
DESCRIPTION:
ORGANIZER:
DTSTAMP:20260421T003805
ATTACH:https://www.hinto.ch/de/events/heks-gartentreffen-28-07-2026-0900-brache-lachen-st-gallen-e2847284-20.html
END:VEVENT
END:VCALENDAR
