BEGIN:VCALENDAR
VERSION:2.0
PRODID:hinto.net
X-PUBLISHED-TTL:P1W
BEGIN:VEVENT
UID:hinto.net-event_show-6810218
DTSTART:20260430T193000
SEQUENCE:0
CREATED:20260313T034819
LAST-MODIFIED:20260313T034819
TRANSP:OPAQUE
DTEND:20260430T213000
LOCATION:VIDMARHALLEN
SUMMARY:HELLO EARTH! - Bühnen Bern
CLASS:PUBLIC
DESCRIPTION:
ORGANIZER:
DTSTAMP:20260424T230144
ATTACH:https://www.hinto.ch/de/events/hello-earth!-buehnen-bern-30-04-2026-1930-vidmarhallen-liebefeld-e2609482-20.html
END:VEVENT
END:VCALENDAR
