BEGIN:VCALENDAR
VERSION:2.0
PRODID:hinto.net
X-PUBLISHED-TTL:P1W
BEGIN:VEVENT
UID:hinto.net-event_show-6925312
DTSTART:20260424T200000
SEQUENCE:0
CREATED:20260419T052147
LAST-MODIFIED:20260419T052147
TRANSP:OPAQUE

LOCATION:Lichtspiel
SUMMARY:HER, Spike Jonze, USA 2013, E/d, 126', DCP
CLASS:PUBLIC
DESCRIPTION:
ORGANIZER:
DTSTAMP:20260424T091945
ATTACH:https://www.hinto.ch/de/events/her-spike-jonze-usa-2013-ed-126-dcp-24-04-2026-2000-lichtspiel-bern-e2847402-20.html
END:VEVENT
END:VCALENDAR
