BEGIN:VCALENDAR
VERSION:2.0
PRODID:hinto.net
X-PUBLISHED-TTL:P1W
BEGIN:VEVENT
UID:hinto.net-event_show-6941712
DTSTART:20260509T193000
SEQUENCE:0
CREATED:20260423T031603
LAST-MODIFIED:20260423T031603
TRANSP:OPAQUE

LOCATION:Baden Aue
SUMMARY:HSG EhrEndingen Celtics - HC Arbon
CLASS:PUBLIC
DESCRIPTION:
ORGANIZER:
DTSTAMP:20260424T141649
ATTACH:https://www.hinto.ch/de/events/hsg-ehrendingen-celtics-hc-arbon-09-05-2026-1930-baden-aue-baden-e2857017-20.html
END:VEVENT
END:VCALENDAR
