BEGIN:VCALENDAR
VERSION:2.0
PRODID:hinto.net
X-PUBLISHED-TTL:P1W
BEGIN:VEVENT
UID:hinto.net-event_show-6941781
DTSTART:20260425T130000
SEQUENCE:0
CREATED:20260423T031608
LAST-MODIFIED:20260423T031608
TRANSP:OPAQUE

LOCATION:Muri Bachmatten
SUMMARY:HSV Säuliamt 2 - Wacker Thun Drü
CLASS:PUBLIC
DESCRIPTION:
ORGANIZER:
DTSTAMP:20260424T184556
ATTACH:https://www.hinto.ch/de/events/hsv-saeuliamt-2-wacker-thun-drue-25-04-2026-1300-muri-bachmatten-muri-ag-e2857086-20.html
END:VEVENT
END:VCALENDAR
