BEGIN:VCALENDAR
VERSION:2.0
PRODID:hinto.net
X-PUBLISHED-TTL:P1W
BEGIN:VEVENT
UID:hinto.net-event_show-6814917
DTSTART:20260419T183000
SEQUENCE:0
CREATED:20260314T035913
LAST-MODIFIED:20260314T035913
TRANSP:OPAQUE

LOCATION:Z7
SUMMARY:Hypocrisy
CLASS:PUBLIC
DESCRIPTION:
ORGANIZER:
DTSTAMP:20260419T151919
ATTACH:https://www.hinto.ch/de/events/hypocrisy-19-04-2026-1830-z7-prattelen-e2753103-20.html
END:VEVENT
END:VCALENDAR
