BEGIN:VCALENDAR
VERSION:2.0
PRODID:hinto.net
X-PUBLISHED-TTL:P1W
BEGIN:VEVENT
UID:hinto.net-event_show-6525140
DTSTART:20261022T200000
SEQUENCE:0
CREATED:20251213T031912
LAST-MODIFIED:20251213T031912
TRANSP:OPAQUE

LOCATION:Kula
SUMMARY:Ikan Hyu
CLASS:PUBLIC
DESCRIPTION:
ORGANIZER:
DTSTAMP:20260419T192850
ATTACH:https://www.hinto.ch/de/events/ikan-hyu-22-10-2026-2000-kula-konstanz-e2514010-20.html
END:VEVENT
END:VCALENDAR
