BEGIN:VCALENDAR
VERSION:2.0
PRODID:hinto.net
X-PUBLISHED-TTL:P1W
BEGIN:VEVENT
UID:hinto.net-event_show-6894019
DTSTART:20261220T160000
SEQUENCE:0
CREATED:20260409T060229
LAST-MODIFIED:20260409T060229
TRANSP:OPAQUE
DTEND:20261220T180000
LOCATION:Kulturzentrum Braui
SUMMARY:It's Christmas Time
CLASS:PUBLIC
DESCRIPTION:
ORGANIZER:
DTSTAMP:20260424T082750
ATTACH:https://www.hinto.ch/de/events/its-christmas-time-20-12-2026-1600-kulturzentrum-braui-hochdorf-e2819879-20.html
END:VEVENT
END:VCALENDAR
