BEGIN:VCALENDAR
VERSION:2.0
PRODID:hinto.net
X-PUBLISHED-TTL:P1W
BEGIN:VEVENT
UID:hinto.net-event_show-6903876
DTSTART:20260424T000000
SEQUENCE:0
CREATED:20260411T114624
LAST-MODIFIED:20260411T114624
TRANSP:OPAQUE

LOCATION:Distillerie Morand
SUMMARY:Jardin Secret
CLASS:PUBLIC
DESCRIPTION:
ORGANIZER:
DTSTAMP:20260421T031137
ATTACH:https://www.hinto.ch/de/events/jardin-secret-24-04-2026-0000-distillerie-morand-martigny-e2829104-20.html
END:VEVENT
END:VCALENDAR
