BEGIN:VCALENDAR
VERSION:2.0
PRODID:hinto.net
X-PUBLISHED-TTL:P1W
BEGIN:VEVENT
UID:hinto.net-event_show-6888924
DTSTART:20260605T203000
SEQUENCE:0
CREATED:20260407T025311
LAST-MODIFIED:20260407T025311
TRANSP:OPAQUE

LOCATION:Jazztone
SUMMARY:Joel-Frahm-Trio
CLASS:PUBLIC
DESCRIPTION:
ORGANIZER:
DTSTAMP:20260419T232514
ATTACH:https://www.hinto.ch/de/events/joel-frahm-trio-05-06-2026-2030-jazztone-loerrach-e2815329-20.html
END:VEVENT
END:VCALENDAR
