BEGIN:VCALENDAR
VERSION:2.0
PRODID:hinto.net
X-PUBLISHED-TTL:P1W
BEGIN:VEVENT
UID:hinto.net-event_show-6903915
DTSTART:20260417T203000
SEQUENCE:0
CREATED:20260411T114645
LAST-MODIFIED:20260411T114645
TRANSP:OPAQUE

LOCATION:Alti Moschti
SUMMARY:KH Project
CLASS:PUBLIC
DESCRIPTION:
ORGANIZER:
DTSTAMP:20260419T220351
ATTACH:https://www.hinto.ch/de/events/kh-project-17-04-2026-2030-alti-moschti-muehlethurnen-e2829140-20.html
END:VEVENT
END:VCALENDAR
