BEGIN:VCALENDAR
VERSION:2.0
PRODID:hinto.net
X-PUBLISHED-TTL:P1W
BEGIN:VEVENT
UID:hinto.net-event_show-6619659
DTSTART:20260620T171500
SEQUENCE:0
CREATED:20260114T064145
LAST-MODIFIED:20260114T064145
TRANSP:OPAQUE
DTEND:20260620T183000
LOCATION:Kloster Einsiedeln
SUMMARY:Klang der Stille III
CLASS:PUBLIC
DESCRIPTION:
ORGANIZER:
DTSTAMP:20260421T011658
ATTACH:https://www.hinto.ch/de/events/klang-der-stille-iii-20-06-2026-1715-kloster-einsiedeln-einsiedeln-e2598605-20.html
END:VEVENT
END:VCALENDAR
