BEGIN:VCALENDAR
VERSION:2.0
PRODID:hinto.net
X-PUBLISHED-TTL:P1W
BEGIN:VEVENT
UID:hinto.net-event_show-6942170
DTSTART:20260714T083000
SEQUENCE:0
CREATED:20260423T090803
LAST-MODIFIED:20260423T090803
TRANSP:OPAQUE
DTEND:20260714T093000
LOCATION:SOLEBAD EDEN
SUMMARY:Klangschalen-Bad
CLASS:PUBLIC
DESCRIPTION:
ORGANIZER:
DTSTAMP:20260424T213834
ATTACH:https://www.hinto.ch/de/events/klangschalen-bad-14-07-2026-0830-solebad-eden-rheinfelden-e2379295-20.html
END:VEVENT
END:VCALENDAR
