BEGIN:VCALENDAR
VERSION:2.0
PRODID:hinto.net
X-PUBLISHED-TTL:P1W
BEGIN:VEVENT
UID:hinto.net-event_show-6644320
DTSTART:20270306T200000
SEQUENCE:0
CREATED:20260121T085907
LAST-MODIFIED:20260121T085907
TRANSP:OPAQUE
DTEND:20270306T221500
LOCATION:Forum im Ried
SUMMARY:Lapsus - Ego!
CLASS:PUBLIC
DESCRIPTION:
ORGANIZER:
DTSTAMP:20260419T213603
ATTACH:https://www.hinto.ch/de/events/lapsus-ego!-06-03-2027-2000-forum-im-ried-landquart-e2616853-20.html
END:VEVENT
END:VCALENDAR
