BEGIN:VCALENDAR
VERSION:2.0
PRODID:hinto.net
X-PUBLISHED-TTL:P1W
BEGIN:VEVENT
UID:hinto.net-event_show-6897958
DTSTART:20260423T193000
SEQUENCE:0
CREATED:20260410T051126
LAST-MODIFIED:20260410T051126
TRANSP:OPAQUE

LOCATION:Temple de Bex
SUMMARY:Le Quatuor DACCORD au Temple de Bex
CLASS:PUBLIC
DESCRIPTION:
ORGANIZER:
DTSTAMP:20260424T082829
ATTACH:https://www.hinto.ch/de/events/le-quatuor-daccord-au-temple-de-bex-23-04-2026-1930-temple-de-bex-bex-e2823745-20.html
END:VEVENT
END:VCALENDAR
