BEGIN:VCALENDAR
VERSION:2.0
PRODID:hinto.net
X-PUBLISHED-TTL:P1W
BEGIN:VEVENT
UID:hinto.net-event_show-6818243
DTSTART:20260426T200000
SEQUENCE:0
CREATED:20260315T035400
LAST-MODIFIED:20260315T035400
TRANSP:OPAQUE

LOCATION:Conrad Sohm
SUMMARY:Leap – Entropy Tour
CLASS:PUBLIC
DESCRIPTION:
ORGANIZER:
DTSTAMP:20260420T225427
ATTACH:https://www.hinto.ch/de/events/leap-n-entropy-tour-26-04-2026-2000-conrad-sohm-dornbirn-e2756058-20.html
END:VEVENT
END:VCALENDAR
