BEGIN:VCALENDAR
VERSION:2.0
PRODID:hinto.net
X-PUBLISHED-TTL:P1W
BEGIN:VEVENT
UID:hinto.net-event_show-6833185
DTSTART:20260425T190000
SEQUENCE:0
CREATED:20260320T015544
LAST-MODIFIED:20260320T015544
TRANSP:OPAQUE

LOCATION:Buchhandlung Lüthy
SUMMARY:Lesung mit Nora Gomringer
CLASS:PUBLIC
DESCRIPTION:
ORGANIZER:
DTSTAMP:20260421T055525
ATTACH:https://www.hinto.ch/de/events/lesung-mit-nora-gomringer-25-04-2026-1900-buchhandlung-luethy-solothurn-e2768209-20.html
END:VEVENT
END:VCALENDAR
