BEGIN:VCALENDAR
VERSION:2.0
PRODID:hinto.net
X-PUBLISHED-TTL:P1W
BEGIN:VEVENT
UID:hinto.net-event_show-6701751
DTSTART:20260510T170000
SEQUENCE:0
CREATED:20260209T092832
LAST-MODIFIED:20260209T092832
TRANSP:OPAQUE

LOCATION:Diogenes Theater
SUMMARY:Liaison // Konzert
CLASS:PUBLIC
DESCRIPTION:
ORGANIZER:
DTSTAMP:20260424T170847
ATTACH:https://www.hinto.ch/de/events/liaison-konzert-10-05-2026-1700-diogenes-theater-altstaetten-sg-e1989859-20.html
END:VEVENT
END:VCALENDAR
