BEGIN:VCALENDAR
VERSION:2.0
PRODID:hinto.net
X-PUBLISHED-TTL:P1W
BEGIN:VEVENT
UID:hinto.net-event_show-6273385
DTSTART:20261101T100000
SEQUENCE:0
CREATED:20250919T171946
LAST-MODIFIED:20250919T171946
TRANSP:OPAQUE
DTEND:20261101T170000
LOCATION:Schweizer Kindermuseum
SUMMARY:Lueg id Wält
CLASS:PUBLIC
DESCRIPTION:
ORGANIZER:
DTSTAMP:20260421T064652
ATTACH:https://www.hinto.ch/de/events/lueg-id-waelt-01-11-2026-1000-schweizer-kindermuseum-baden-e2297065-20.html
END:VEVENT
END:VCALENDAR
