BEGIN:VCALENDAR
VERSION:2.0
PRODID:hinto.net
X-PUBLISHED-TTL:P1W
BEGIN:VEVENT
UID:hinto.net-event_show-6833941
DTSTART:20270213T110000
SEQUENCE:0
CREATED:20260320T072021
LAST-MODIFIED:20260320T072021
TRANSP:OPAQUE
DTEND:20270213T170000
LOCATION:Würth Haus
SUMMARY:Lun Tuchnowski & Friends
CLASS:PUBLIC
DESCRIPTION:
ORGANIZER:
DTSTAMP:20260424T041244
ATTACH:https://www.hinto.ch/de/events/lun-tuchnowski-friends-13-02-2027-1100-wuerth-haus-rorschach-e2768390-20.html
END:VEVENT
END:VCALENDAR
