BEGIN:VCALENDAR
VERSION:2.0
PRODID:hinto.net
X-PUBLISHED-TTL:P1W
BEGIN:VEVENT
UID:hinto.net-event_show-6827343
DTSTART:20260417T200000
SEQUENCE:0
CREATED:20260318T053008
LAST-MODIFIED:20260318T053008
TRANSP:OPAQUE

LOCATION:Ele­fant­e­huus
SUMMARY:Lunik
CLASS:PUBLIC
DESCRIPTION:
ORGANIZER:
DTSTAMP:20260419T234050
ATTACH:https://www.hinto.ch/de/events/lunik-17-04-2026-2000-elesfantseshuus-liestal-e2763212-20.html
END:VEVENT
END:VCALENDAR
