BEGIN:VCALENDAR
VERSION:2.0
PRODID:hinto.net
X-PUBLISHED-TTL:P1W
BEGIN:VEVENT
UID:hinto.net-event_show-6925071
DTSTART:20260421T191500
SEQUENCE:0
CREATED:20260419T051944
LAST-MODIFIED:20260419T051944
TRANSP:OPAQUE

LOCATION:tiRumpel
SUMMARY:Männer-Treff
CLASS:PUBLIC
DESCRIPTION:
ORGANIZER:
DTSTAMP:20260420T003022
ATTACH:https://www.hinto.ch/de/events/maenner-treff-21-04-2026-1915-tirumpel-st-gallen-e2847269-20.html
END:VEVENT
END:VCALENDAR
