BEGIN:VCALENDAR
VERSION:2.0
PRODID:hinto.net
X-PUBLISHED-TTL:P1W
BEGIN:VEVENT
UID:hinto.net-event_show-6925315
DTSTART:20260424T200000
SEQUENCE:0
CREATED:20260419T052149
LAST-MODIFIED:20260419T052149
TRANSP:OPAQUE

LOCATION:Kreuz
SUMMARY:Mathias Landtwing Quartett
CLASS:PUBLIC
DESCRIPTION:
ORGANIZER:
DTSTAMP:20260421T074028
ATTACH:https://www.hinto.ch/de/events/mathias-landtwing-quartett-24-04-2026-2000-kreuz-nidau-e2847405-20.html
END:VEVENT
END:VCALENDAR
