BEGIN:VCALENDAR
VERSION:2.0
PRODID:hinto.net
X-PUBLISHED-TTL:P1W
BEGIN:VEVENT
UID:hinto.net-event_show-6612187
DTSTART:20260530T200000
SEQUENCE:0
CREATED:20260111T193907
LAST-MODIFIED:20260111T193907
TRANSP:OPAQUE

LOCATION:Campo Al Ponte
SUMMARY:Max & Margot verreisen
CLASS:PUBLIC
DESCRIPTION:
ORGANIZER:
DTSTAMP:20260425T022632
ATTACH:https://www.hinto.ch/de/events/max-margot-verreisen-30-05-2026-2000-campo-al-ponte-claro-e2591810-20.html
END:VEVENT
END:VCALENDAR
