BEGIN:VCALENDAR
VERSION:2.0
PRODID:hinto.net
X-PUBLISHED-TTL:P1W
BEGIN:VEVENT
UID:hinto.net-event_show-6948013
DTSTART:20260622T193000
SEQUENCE:0
CREATED:20260424T095916
LAST-MODIFIED:20260424T095916
TRANSP:OPAQUE
DTEND:20260622T223000
LOCATION:Kunsterei Basel
SUMMARY:MontagsAbrazo
CLASS:PUBLIC
DESCRIPTION:
ORGANIZER:
DTSTAMP:20260425T042945
ATTACH:https://www.hinto.ch/de/events/montagsabrazo-22-06-2026-1930-kunsterei-basel-basel-e370838-20.html
END:VEVENT
END:VCALENDAR
