BEGIN:VCALENDAR
VERSION:2.0
PRODID:hinto.net
X-PUBLISHED-TTL:P1W
BEGIN:VEVENT
UID:hinto.net-event_show-6605653
DTSTART:20260422T193000
SEQUENCE:0
CREATED:20260109T034257
LAST-MODIFIED:20260109T034257
TRANSP:OPAQUE
DTEND:20260422T220000
LOCATION:Stage19
SUMMARY:Musig im Hopp mit Tightrope
CLASS:PUBLIC
DESCRIPTION:
ORGANIZER:
DTSTAMP:20260424T074524
ATTACH:https://www.hinto.ch/de/events/musig-im-hopp-mit-tightrope-22-04-2026-1930-stage19-au-sg-e2585922-20.html
END:VEVENT
END:VCALENDAR
